BEGIN:VCALENDAR
VERSION:2.0
PRODID:-//CAFT - ECPv6.15.20//NONSGML v1.0//EN
CALSCALE:GREGORIAN
METHOD:PUBLISH
X-WR-CALNAME:CAFT
X-ORIGINAL-URL:https://www.caft.co.uk
X-WR-CALDESC:Events for CAFT
REFRESH-INTERVAL;VALUE=DURATION:PT1H
X-Robots-Tag:noindex
X-PUBLISHED-TTL:PT1H
BEGIN:VTIMEZONE
TZID:UTC
BEGIN:STANDARD
TZOFFSETFROM:+0000
TZOFFSETTO:+0000
TZNAME:UTC
DTSTART:20240101T000000
END:STANDARD
END:VTIMEZONE
BEGIN:VEVENT
DTSTART;TZID=UTC:20251009T080000
DTEND;TZID=UTC:20251012T210000
DTSTAMP:20260420T011309
CREATED:20250228T105612Z
LAST-MODIFIED:20250228T114941Z
UID:25104602-1759996800-1760302800@www.caft.co.uk
SUMMARY:North Wales Pilgrim's Way
DESCRIPTION:Join us for this 4-day hike along the ancient North Wales Pilgrim’s Way (a.k.a. Welsh Camino)\, walking in the footsteps of thousands of pilgrims finding their way to Bardsey Island long time ago\, drawn to the place where the sun sets over the watery horizon at the end of the world.. We will cover the last 3rd of the route\, walking 50 miles from Llanberis to Aberdaron! The route will take us via prehistoric stone circles\, ancient churches\, thousand year-old stone crosses\, sacred springs and waterfalls. \nYou will pass through magical woodlands and across great rivers\, up mountains and along coast paths spattered by salty air\, along ancient roadways\, through wilderness and human settlements. Tiny stone churches nestled into the hills provide shelter and rest along the Way\, much as they would have done in the past – original pilgrim places. Manley Hopkins\, RS Thomas and several great Welsh poets have all taken inspiration here\, as you may do too. \nYou will be transferred from CAFT (WA14 3RE) to Llanberis on Thursday morning\, briefly visiting chapel in Holywell at the start of the official route. We then start our walk in the late morning\, arriving to our accommodation in Y Fron 8.6 miles later. Second day we will cover 12.5 miles\, soon arriving to the coastline on Llyn peninsula. Saturday will see our longest day – covering 15 miles along the beautiful Wales Coastal Path. Last day we will walk 12 miles and finish in Aberdaron before transfer back home. \nWe will stay 3 nights in Canolfan Y Fron – modern bunk-style accommodation (https://www.canolfanyfron.org/en/accommodation). \nREGISTER HERE \nCOSTS / FUNDRAISING REQUIREMENT \n\n£150 registration deposit\n£125 further costs (due no later than 11th September 2025)\n£300 fundraising target\n\nINCLUSIONS \n\nfully guided and supported walk\nall transfers\n3 nights accommodation (modern bunk house style)\nall transfer\nbreakfasts and lunches on days 2-4\ndinner on day 1\ndonation to CAFT\n\nThis event is strictly limited on available places and it is likely to sell out quickly\, so register early to avoid disappointment. \nFor further information\, please contact jure@caft.co.uk
URL:https://www.caft.co.uk/event/north-wales-pilgrims-way/
CATEGORIES:Challenges
ATTACH;FMTTYPE=image/jpeg:https://www.caft.co.uk/wp-content/uploads/2025/02/Welsh-camino-sq.jpg
END:VEVENT
END:VCALENDAR