BEGIN:VCALENDAR
VERSION:2.0
PRODID:-//CAFT - ECPv6.15.20//NONSGML v1.0//EN
CALSCALE:GREGORIAN
METHOD:PUBLISH
X-WR-CALNAME:CAFT
X-ORIGINAL-URL:https://www.caft.co.uk
X-WR-CALDESC:Events for CAFT
REFRESH-INTERVAL;VALUE=DURATION:PT1H
X-Robots-Tag:noindex
X-PUBLISHED-TTL:PT1H
BEGIN:VTIMEZONE
TZID:UTC
BEGIN:STANDARD
TZOFFSETFROM:+0000
TZOFFSETTO:+0000
TZNAME:UTC
DTSTART:20240101T000000
END:STANDARD
END:VTIMEZONE
BEGIN:VEVENT
DTSTART;TZID=UTC:20251213T124500
DTEND;TZID=UTC:20251213T163000
DTSTAMP:20260419T220912
CREATED:20241110T132408Z
LAST-MODIFIED:20250529T121517Z
UID:25102916-1765629900-1765643400@www.caft.co.uk
SUMMARY:Festive Ramble
DESCRIPTION:Put on your Christmas jumper and/or hat\, and join us for a Festive Ramble along the beautiful Hope valley! It’s going to be magical! \n\n\n\n\n\n\n\nWHEN?  \nSaturday 13th December at 12.45pm \nWHERE?  \nThe Old Hall\, Hope\, Derbyshire \nWHAT?  \nSupported Walk: 2-3h easy or moderate along Hope Valley\, with stop in Castleton\, \nRefreshments: Mulled wine/ Hot chocolate & Mince Pie at the finish\, \nEntertainment: Brass band playing Christmas Carols! Sing along encouraged! – from 4pm \n£20 entry includes all of the above and donation to CAFT charity! \nRegister: Festive Ramble | The Children’s Adventure Farm Trust
URL:https://www.caft.co.uk/event/festive-ramble/
CATEGORIES:Challenges
ATTACH;FMTTYPE=image/jpeg:https://www.caft.co.uk/wp-content/uploads/2024/11/FESTIVE-ramble.jpg
END:VEVENT
END:VCALENDAR