BEGIN:VCALENDAR
VERSION:2.0
PRODID:-//CAFT - ECPv6.15.20//NONSGML v1.0//EN
CALSCALE:GREGORIAN
METHOD:PUBLISH
X-WR-CALNAME:CAFT
X-ORIGINAL-URL:https://www.caft.co.uk
X-WR-CALDESC:Events for CAFT
REFRESH-INTERVAL;VALUE=DURATION:PT1H
X-Robots-Tag:noindex
X-PUBLISHED-TTL:PT1H
BEGIN:VTIMEZONE
TZID:UTC
BEGIN:STANDARD
TZOFFSETFROM:+0000
TZOFFSETTO:+0000
TZNAME:UTC
DTSTART:20250101T000000
END:STANDARD
END:VTIMEZONE
BEGIN:VEVENT
DTSTART;TZID=UTC:20260609T080000
DTEND;TZID=UTC:20260614T170000
DTSTAMP:20260419T191501
CREATED:20250909T152916Z
LAST-MODIFIED:20250909T152916Z
UID:25105589-1780992000-1781456400@www.caft.co.uk
SUMMARY:Raid Alpine 5.0 - Marseille to Lyon 1
DESCRIPTION:This event is Sold Out. Please contact jure@caft.co.uk to join waiting list or to hear about alternative dates.\nCycling trip in regions of Provence & Rhône-Alpes \nJoin this fantastic charity challenge and cycle the beautiful roads and scenery of Provence and Rhône-Alpes regions of southern France. From the gentle rolling hills of Provence’s idyllic countryside to the more challenging iconic climbs through the Alps\, this trip offers cyclists a little bit of everything. Take in its breath-taking beauty combined with it’s history\, culture\, cuisine\, enviable climate and exceptionally welcoming locals\, amazing cycling roads\, beautiful hotels\, and you’ve got the perfect cycling trip! \nWe start near the Mediterranean sea on the outskirts of Marseille before heading north! After cycling through picturesque villages\, through fields of lavender\, olive groves and vineyards\, the end of the first and the beginning of the second day will be dominated by the magnificent Mont Ventoux. Then we enter the Rhône-Alpes region\, on the edge of the Alps. While the peaks are not as high as the famed mountains and Cols further to the East\, brace yourself for some surprises! Endless miles of perfect roads\, beautiful towns and stunning scenery will take your breath away! Col de la Machine might be one of the most beautiful balcony roads in the world. We will finish our ride in the historic city centre of Lyon\, where we reflect on the amazing days of cycling and celebrate our achievement! \nThis really is a special adventure that you just don’t want to miss!! And it’s bound to sell out fast\, so if you are interested\, register today to avoid disappointment  \nKEY INFORMATION\n\nDuration: 6 days\nCycling days: 4\nDistance: 437-574km\nElevation: 5\,696-10\,059m\nChallenge grade: Moderate / Difficult\nLocation: France\n\nCOSTS\n\n£250 registration deposit\n£550 remaining costs 4 weeks before the trip.\n£500 minimum sponsorship / fundraising for CAFT charity required\n\nYou will find further details about this trip including the routes\, and accommodation as well as inclusions/ exclusions in our brochure. \nYou can register here:Raid Alpine5_0 Week 1 – Marseille to Lyon | The Children’s Adventure Farm Trust \nFor further information\, please contact jure@caft.co.uk or call us on 01565 830053
URL:https://www.caft.co.uk/event/raid-alpine-5-0-marseille-to-lyon-1/
CATEGORIES:Challenges
ATTACH;FMTTYPE=image/jpeg:https://www.caft.co.uk/wp-content/uploads/2025/09/Alpine-5.0-square-3.jpg
END:VEVENT
BEGIN:VEVENT
DTSTART;TZID=UTC:20260616T080000
DTEND;TZID=UTC:20260621T170000
DTSTAMP:20260419T191501
CREATED:20250903T092930Z
LAST-MODIFIED:20250909T153133Z
UID:25105549-1781596800-1782061200@www.caft.co.uk
SUMMARY:Raid Alpine 5.0 - Marseille to Lyon 2
DESCRIPTION:This event is Sold Out. Please contact jure@caft.co.uk to join waiting list or to hear about alternative dates.\nCycling trip in regions of Provence & Rhône-Alpes \nJoin this fantastic charity challenge and cycle the beautiful roads and scenery of Provence and Rhône-Alpes regions of southern France. From the gentle rolling hills of Provence’s idyllic countryside to the more challenging iconic climbs through the Alps\, this trip offers cyclists a little bit of everything. Take in its breath-taking beauty combined with it’s history\, culture\, cuisine\, enviable climate and exceptionally welcoming locals\, amazing cycling roads\, beautiful hotels\, and you’ve got the perfect cycling trip! \nWe start near the Mediterranean sea on the outskirts of Marseille before heading north! After cycling through picturesque villages\, through fields of lavender\, olive groves and vineyards\, the end of the first and the beginning of the second day will be dominated by the magnificent Mont Ventoux. Then we enter the Rhône-Alpes region\, on the edge of the Alps. While the peaks are not as high as the famed mountains and Cols further to the East\, brace yourself for some surprises! Endless miles of perfect roads\, beautiful towns and stunning scenery will take your breath away! Col de la Machine might be one of the most beautiful balcony roads in the world. We will finish our ride in the historic city centre of Lyon\, where we reflect on the amazing days of cycling and celebrate our achievement! \nThis really is a special adventure that you just don’t want to miss!! And it’s bound to sell out fast\, so if you are interested\, register today to avoid disappointment  \nKEY INFORMATION\n\nDuration: 6 days\nCycling days: 4\nDistance: 437-574km\nElevation: 5\,696-10\,059m\nChallenge grade: Moderate / Difficult\nLocation: France\n\nCOSTS\n\n£250 registration deposit\n£550 remaining costs 4 weeks before the trip.\n£500 minimum sponsorship / fundraising for CAFT charity required\n\nYou will find further details about this trip including the routes\, and accommodation as well as inclusions/ exclusions in our brochure: Raid Alpine 5.0 Brochure 16-21 June 2026 \nYou can register here: Raid Alpine5_0 Week 2 – Marseille to Lyon | The Children’s Adventure Farm Trust \nFor further information\, please contact jure@caft.co.uk or call us on 01565 830053
URL:https://www.caft.co.uk/event/raid-alpine-5-0-marseille-to-lyon-2/
CATEGORIES:Challenges
ATTACH;FMTTYPE=image/jpeg:https://www.caft.co.uk/wp-content/uploads/2025/09/Alpine-5.0-square-2.jpg
END:VEVENT
BEGIN:VEVENT
DTSTART;TZID=UTC:20260627T050000
DTEND;TZID=UTC:20260627T220000
DTSTAMP:20260419T191501
CREATED:20250908T155614Z
LAST-MODIFIED:20250909T123043Z
UID:25105546-1782536400-1782597600@www.caft.co.uk
SUMMARY:Summer Solstice - Cardiff to Manchester Bike Ride
DESCRIPTION:Join us for this incredible adventure and conquer double-century ride in a day!\nWe are incredibly excited to offer our ‘extreme and endurance’ loving cycling supporters another amazing long distance event! This time linking Welsh capital Cardiff with Manchester! All this in a day… on 27th June 2026– one of the longest Saturdays of the year! \nOur 320km / 200-mile route will start in Barry – the most southern point in Wales\, first visit Barry Island (Gavin & Stacey)\, before following the Bristol channel through Cardiff\, past Newport\, then turning north in Chepstow. We head through Hereford\, Ludlow\, Shropshire Hills\, Market Drayton\, Nantwich\, Middlewich\, all the way to Timperley! Mostly gently undulated terrain adds to 2\,574m / 8\,444ft of elevation in total. \nWe will start our adventure just as the sun rises at 4.58am. The goal is to complete the ride\, arriving in Timperley before the sun sets at 21.42.  Provisional route can be viewed HERE. \n£85 entry fee (includes transport for you and your bike from Manchester to the start on Friday\, and fully supported ride on Saturday). \nAccommodation (Mount Rooms Hotel) will be charged in addition to the entry donation. Prices include breakfast and are as followed: single occupancy £65; twin or double with 2 sharing £45 per person. The payment for accommodation will be due no later than month before (26th May 2025). \nPlease note that the places are strictly limited and they are likely to fill quickly\, so register early to avoid disappointment. \nTo secure your place\, please register HERE \nContact jure@caft.co.uk if you need any further information at this point.
URL:https://www.caft.co.uk/event/summer-solstice-cardiff-to-manchester-bike-ride/
CATEGORIES:Challenges
ATTACH;FMTTYPE=image/jpeg:https://www.caft.co.uk/wp-content/uploads/2025/09/Summer-solstice-200-N.jpg
END:VEVENT
END:VCALENDAR