BEGIN:VCALENDAR
VERSION:2.0
PRODID:-//CAFT - ECPv6.15.20//NONSGML v1.0//EN
CALSCALE:GREGORIAN
METHOD:PUBLISH
X-ORIGINAL-URL:https://www.caft.co.uk
X-WR-CALDESC:Events for CAFT
REFRESH-INTERVAL;VALUE=DURATION:PT1H
X-Robots-Tag:noindex
X-PUBLISHED-TTL:PT1H
BEGIN:VTIMEZONE
TZID:UTC
BEGIN:STANDARD
TZOFFSETFROM:+0000
TZOFFSETTO:+0000
TZNAME:UTC
DTSTART:20240101T000000
END:STANDARD
END:VTIMEZONE
BEGIN:VEVENT
DTSTART;TZID=UTC:20250920T110000
DTEND;TZID=UTC:20250923T100000
DTSTAMP:20260420T034701
CREATED:20241218T172150Z
LAST-MODIFIED:20241218T172514Z
UID:25104392-1758366000-1758621600@www.caft.co.uk
SUMMARY:Tre Cime Trek – Dolomites – Wk1
DESCRIPTION:Tre Cime Trek – Dolomites – Wk1\n\nJoin this fantastic ‘long-weekend’ charity challenge\, trekking the stunning Tre Cime Nature Park in the northeastern Dolomites. We will approach iconic ‘Three Peaks’ along the routes less travelled. Once reaching the plateau\, we will circle the majestic battlement-like peaks\, witnessing them from every angle. On the trip you will experience the amazing hospitality and romance that the mountain huts provide. You don’t want to miss this one! \nHIGHLIGHTS \n\nExplore the beautiful Tre Cime Nature Park\nExperience the romance and hospitality of ‘hut to hut’ hiking\nBe awed by the expansive vistas of Dolomite Mountains\nBe part of amazing group\n\nFor full details of the event including detailed itinerary\, please refer to the brochure available on request (jure@caft.co.uk) \nKEY INFORMATION \nDURATION: 4 DAYS \nTREKKING DURATION: 3 DAYS \nTREKKING DISTANCE: 38.5KM \nALTITUDE GAINED: 2\,000m \nCHALLENGE GRADE: DIFFICULT \nLOCATION: DOLOMITES\, SOUTH TYROL\, ITALY \nINCLUSIONS/EXCLUSIONS \nIncluded \n\nTransfers from / to Venice airport\nHalf Board dormitory style accommodation in mountain huts on days 1 & 2\nCelebratory dinner on day 2\nHotel accommodation in twin room with breakfast on day 3.\nExperienced mountain guides\n\nNot Included \n\nFlights\nPersonal travel insurance\nDrinks (other than drinking water)\nTips and gratuities\n\nCOSTS \nMinimum Sponsorship Option \n\nDeposit £150\nFundraise minimum of £1\,000 (and we will cover the costs) \n\nSelf-Funding Option \n\nDeposit £150\nCosts £275*\n\n* self-funding participants are expected to raise a minimum of £450 for CAFT charity \nREGISTER HERE: https://register.enthuse.com/ps/event/TreCimeTrekWk1
URL:https://www.caft.co.uk/event/tre-cime-trek-dolomites-wk1/
CATEGORIES:Challenges
ATTACH;FMTTYPE=image/jpeg:https://www.caft.co.uk/wp-content/uploads/2024/12/TRE-CIME.jpg
ORGANIZER;CN="Jure":MAILTO:jure@caft.co.uk
END:VEVENT
END:VCALENDAR