BEGIN:VCALENDAR
VERSION:2.0
PRODID:-//CAFT - ECPv6.15.20//NONSGML v1.0//EN
CALSCALE:GREGORIAN
METHOD:PUBLISH
X-ORIGINAL-URL:https://www.caft.co.uk
X-WR-CALDESC:Events for CAFT
REFRESH-INTERVAL;VALUE=DURATION:PT1H
X-Robots-Tag:noindex
X-PUBLISHED-TTL:PT1H
BEGIN:VTIMEZONE
TZID:UTC
BEGIN:STANDARD
TZOFFSETFROM:+0000
TZOFFSETTO:+0000
TZNAME:UTC
DTSTART:20250101T000000
END:STANDARD
END:VTIMEZONE
BEGIN:VEVENT
DTSTART;TZID=UTC:20260329T080000
DTEND;TZID=UTC:20260329T140000
DTSTAMP:20260419T191353
CREATED:20241110T173709Z
LAST-MODIFIED:20260318T130628Z
UID:25102929-1774771200-1774792800@www.caft.co.uk
SUMMARY:Easter Chick Ride
DESCRIPTION:Join the fantastic Easter Chick Ride as we celebrate the arrival of the spring with this fun event! Warning – it involves chick outfits!!\nSunday 29th March 2026!\nAll the routes will start and finish across the road from High Legh Garden Centre and they will go via Fentons Farm\, where food and refreshments will be served.\nChoose from number of cycling routes… from fully sign-posted short  ‘family friendly’\, and 30 mile ride\, to more challenging 60 (you will need a navigation device for this route).\nFinal routes as well as all other details will be sent to those registered prior to the event.\n\n11-mile Family friendly Ride – 11 am start\nEaster Chick Ride – Family 2026 | 17.5 km Cycling Route on Strava\n30-mile ride – 10 am start\nEaster Chick Ride – 30 miles 2026 | 50.0 km Cycling Route on Strava\n60-mile ride – 8.30 am start\nCAFT CHICK 60 miles 2026 | 94.6 km Cycling Route on Strava\n\nThe entry donation includes supported routes\, chick suit\, lunch and entertainment.\n\n£20.00 minimum to enter (£12 for under 16’s).\n\nREGISTER HERE: https://register.enthuse.com/ps/event/EasterChickRide2026\nContact jure@caft.co.uk with any questions that you might have.
URL:https://www.caft.co.uk/event/easter-chick-ride/
CATEGORIES:Challenges
ATTACH;FMTTYPE=image/jpeg:https://www.caft.co.uk/wp-content/uploads/2024/11/Chick-Ride-24.jpg
ORGANIZER;CN="Jure":MAILTO:jure@caft.co.uk
END:VEVENT
END:VCALENDAR