BEGIN:VCALENDAR
VERSION:2.0
PRODID:-//CAFT - ECPv6.15.20//NONSGML v1.0//EN
CALSCALE:GREGORIAN
METHOD:PUBLISH
X-ORIGINAL-URL:https://www.caft.co.uk
X-WR-CALDESC:Events for CAFT
REFRESH-INTERVAL;VALUE=DURATION:PT1H
X-Robots-Tag:noindex
X-PUBLISHED-TTL:PT1H
BEGIN:VTIMEZONE
TZID:UTC
BEGIN:STANDARD
TZOFFSETFROM:+0000
TZOFFSETTO:+0000
TZNAME:UTC
DTSTART:20250101T000000
END:STANDARD
END:VTIMEZONE
BEGIN:VEVENT
DTSTART;TZID=UTC:20260627T050000
DTEND;TZID=UTC:20260627T220000
DTSTAMP:20260419T203531
CREATED:20250908T155614Z
LAST-MODIFIED:20250909T123043Z
UID:25105546-1782536400-1782597600@www.caft.co.uk
SUMMARY:Summer Solstice - Cardiff to Manchester Bike Ride
DESCRIPTION:Join us for this incredible adventure and conquer double-century ride in a day!\nWe are incredibly excited to offer our ‘extreme and endurance’ loving cycling supporters another amazing long distance event! This time linking Welsh capital Cardiff with Manchester! All this in a day… on 27th June 2026– one of the longest Saturdays of the year! \nOur 320km / 200-mile route will start in Barry – the most southern point in Wales\, first visit Barry Island (Gavin & Stacey)\, before following the Bristol channel through Cardiff\, past Newport\, then turning north in Chepstow. We head through Hereford\, Ludlow\, Shropshire Hills\, Market Drayton\, Nantwich\, Middlewich\, all the way to Timperley! Mostly gently undulated terrain adds to 2\,574m / 8\,444ft of elevation in total. \nWe will start our adventure just as the sun rises at 4.58am. The goal is to complete the ride\, arriving in Timperley before the sun sets at 21.42.  Provisional route can be viewed HERE. \n£85 entry fee (includes transport for you and your bike from Manchester to the start on Friday\, and fully supported ride on Saturday). \nAccommodation (Mount Rooms Hotel) will be charged in addition to the entry donation. Prices include breakfast and are as followed: single occupancy £65; twin or double with 2 sharing £45 per person. The payment for accommodation will be due no later than month before (26th May 2025). \nPlease note that the places are strictly limited and they are likely to fill quickly\, so register early to avoid disappointment. \nTo secure your place\, please register HERE \nContact jure@caft.co.uk if you need any further information at this point.
URL:https://www.caft.co.uk/event/summer-solstice-cardiff-to-manchester-bike-ride/
CATEGORIES:Challenges
ATTACH;FMTTYPE=image/jpeg:https://www.caft.co.uk/wp-content/uploads/2025/09/Summer-solstice-200-N.jpg
END:VEVENT
END:VCALENDAR