BEGIN:VCALENDAR
VERSION:2.0
PRODID:-//CAFT - ECPv6.15.20//NONSGML v1.0//EN
CALSCALE:GREGORIAN
METHOD:PUBLISH
X-ORIGINAL-URL:https://www.caft.co.uk
X-WR-CALDESC:Events for CAFT
REFRESH-INTERVAL;VALUE=DURATION:PT1H
X-Robots-Tag:noindex
X-PUBLISHED-TTL:PT1H
BEGIN:VTIMEZONE
TZID:UTC
BEGIN:STANDARD
TZOFFSETFROM:+0000
TZOFFSETTO:+0000
TZNAME:UTC
DTSTART:20250101T000000
END:STANDARD
END:VTIMEZONE
BEGIN:VEVENT
DTSTART;TZID=UTC:20260610T103000
DTEND;TZID=UTC:20260610T163000
DTSTAMP:20260420T005148
CREATED:20241213T124133Z
LAST-MODIFIED:20260330T102845Z
UID:25104257-1781087400-1781109000@www.caft.co.uk
SUMMARY:The CAFT Ladies Lunch
DESCRIPTION:Join us for the annual CAFT Ladies Lunch on Wednesday 10th June 2026 at Nunsmere Hall. \nThis fabulous event includes: \n\nWelcome glass of fizz\nA collection of local boutique and artisan shopping stalls\nDelicious 2 course meal\nLuxury goody bag for each guest\nAmazing prizes up for grabs\nAn afternoon of entertainment\n\nTable sizes are up to 10\, tickets £57pp. \nIt’s an event not to be missed! \nBook your place here or please contact natalie@caft.co.uk for further details \nView last year photo’s here! \nWant to promote your business? View our Ladies Lunch sponsor packages here
URL:https://www.caft.co.uk/event/the-caft-ladies-lunch/
LOCATION:Nunsmere Hall
CATEGORIES:Our Events
ATTACH;FMTTYPE=image/jpeg:https://www.caft.co.uk/wp-content/uploads/2024/12/3-1.jpg
END:VEVENT
BEGIN:VEVENT
DTSTART;VALUE=DATE:20260626
DTEND;VALUE=DATE:20260627
DTSTAMP:20260420T005148
CREATED:20241213T121037Z
LAST-MODIFIED:20260410T090631Z
UID:25104244-1782432000-1782518399@www.caft.co.uk
SUMMARY:The CAFT Summer Games
DESCRIPTION:The CAFT Summer Games returns in 2026! \n\nhttps://www.caft.co.uk/wp-content/uploads/2024/12/Summer-Games-Video.mp4\nTHIS EVENT IS NOW SOLD OUT\nHosted by Peter Scotson from Radio Alty\, take part in our Corporate Sports Day at CAFT in teams of 4 to enjoy: \n\nCompetitive games such as archery\, assault course\, relay\, goal shooting and more!\nPodium Medals\nSnacks & Refreshments\nBBQ Dinner\n\nHave you got what it takes to take home the Gold\, Silver or Bronze? \nJoin us on Friday 26th June 2026\, 9.30am – 2.30pm \n£200 for a team of 4 \nWant to promote your business? View our Summer Games sponsor packages here! \nPlease contact natalie@caft.co.uk for more information \nView last years photo’s here!
URL:https://www.caft.co.uk/event/the-caft-summer-games/
CATEGORIES:Our Events
ATTACH;FMTTYPE=image/png:https://www.caft.co.uk/wp-content/uploads/2024/12/Website-Events-8.png
END:VEVENT
END:VCALENDAR